BEGIN:VCALENDAR
VERSION:2.0
PRODID:-//Willkommen beim Musikverein Althengstett! - ECPv6.15.20//NONSGML v1.0//EN
CALSCALE:GREGORIAN
METHOD:PUBLISH
X-WR-CALNAME:Willkommen beim Musikverein Althengstett!
X-ORIGINAL-URL:https://mv-althengstett.de
X-WR-CALDESC:Veranstaltungen für Willkommen beim Musikverein Althengstett!
REFRESH-INTERVAL;VALUE=DURATION:PT1H
X-Robots-Tag:noindex
X-PUBLISHED-TTL:PT1H
BEGIN:VTIMEZONE
TZID:Europe/Berlin
BEGIN:DAYLIGHT
TZOFFSETFROM:+0100
TZOFFSETTO:+0200
TZNAME:CEST
DTSTART:20250330T010000
END:DAYLIGHT
BEGIN:STANDARD
TZOFFSETFROM:+0200
TZOFFSETTO:+0100
TZNAME:CET
DTSTART:20251026T010000
END:STANDARD
BEGIN:DAYLIGHT
TZOFFSETFROM:+0100
TZOFFSETTO:+0200
TZNAME:CEST
DTSTART:20260329T010000
END:DAYLIGHT
BEGIN:STANDARD
TZOFFSETFROM:+0200
TZOFFSETTO:+0100
TZNAME:CET
DTSTART:20261025T010000
END:STANDARD
BEGIN:DAYLIGHT
TZOFFSETFROM:+0100
TZOFFSETTO:+0200
TZNAME:CEST
DTSTART:20270328T010000
END:DAYLIGHT
BEGIN:STANDARD
TZOFFSETFROM:+0200
TZOFFSETTO:+0100
TZNAME:CET
DTSTART:20271031T010000
END:STANDARD
END:VTIMEZONE
BEGIN:VEVENT
DTSTART;TZID=Europe/Berlin:20261115T100000
DTEND;TZID=Europe/Berlin:20261115T120000
DTSTAMP:20260420T190139
CREATED:20241023T185855Z
LAST-MODIFIED:20251215T161055Z
UID:19257-1794736800-1794744000@mv-althengstett.de
SUMMARY:Musikalische Umrahmung Volkstrauertag
DESCRIPTION:Wir Umrahmen den Gottesdienst zum Volkstrauertag in der Markuskirche in Althengstett. \nDiesen Beitrag teilen
URL:https://mv-althengstett.de/event/musikalische-umrahmung-volkstrauertag-2/
LOCATION:Markuskirche\, Hauptstrasse\, Althengstett\, 75382
ATTACH;FMTTYPE=image/jpeg:https://mv-althengstett.de/wp-content/uploads/2022/05/Althengstett_Markuskirche_klein.jpg
END:VEVENT
BEGIN:VEVENT
DTSTART;TZID=Europe/Berlin:20261224T170000
DTEND;TZID=Europe/Berlin:20261224T170000
DTSTAMP:20260420T190139
CREATED:20251215T162342Z
LAST-MODIFIED:20251215T163023Z
UID:20828-1798131600-1798131600@mv-althengstett.de
SUMMARY:Choralblasen unterm Weihnachtsbaum
DESCRIPTION:Alle Jahre wieder … wir laden ein um mit uns zwischen den Gottesdiensten ein paar Weihnachtslieder vor der Markuskirche zu singen! \nDiesen Beitrag teilen
URL:https://mv-althengstett.de/event/choralblasen-unterm-weihnachtsbaum-2/
LOCATION:Markuskirche\, Hauptstrasse\, Althengstett\, 75382
ATTACH;FMTTYPE=image/jpeg:https://mv-althengstett.de/wp-content/uploads/2025/12/IMG_7143.jpg
END:VEVENT
BEGIN:VEVENT
DTSTART;TZID=Europe/Berlin:20261226T190000
DTEND;TZID=Europe/Berlin:20261226T230000
DTSTAMP:20260420T190139
CREATED:20251215T162118Z
LAST-MODIFIED:20251215T162118Z
UID:20826-1798311600-1798326000@mv-althengstett.de
SUMMARY:Unterhaltungsabend
DESCRIPTION:Details folgen! \nDiesen Beitrag teilen
URL:https://mv-althengstett.de/event/unterhaltungsabend/
LOCATION:Festhalle Althengstett\, Jahnstrasse 6\, Althengstett\, 75382\, Deutschland
ATTACH;FMTTYPE=image/webp:https://mv-althengstett.de/wp-content/uploads/2024/12/IMG_0665-2.webp
END:VEVENT
END:VCALENDAR